BEGIN:VCALENDAR
VERSION:2.0
PRODID:Indio, CA Calendar Creator
METHOD:PUBLISH
BEGIN:VEVENT
DTSTAMP:20260310T140908
DTSTART:20260410T000000
DTEND:20260412T235900
SUMMARY:Coachella Valley Music and Arts Festival Weekend 1
DESCRIPTION:For more information:&nbsp;<a href="https://www.coachella.com/" target="_blank" rel="noopener">https://www.coachella.com/</a>
X-ALT-DESC;FMTTYPE=text/html:For more information:&nbsp;<a href="https://www.coachella.com/" target="_blank" rel="noopener">https://www.coachella.com/</a>
LOCATION:Empire Polo Grounds\, 81-800 Avenue 51 Indio\, California 92201
CLASS:PUBLIC
END:VEVENT
END:VCALENDAR
