BEGIN:VCALENDAR
VERSION:2.0
PRODID:Indio, CA Calendar Creator
METHOD:PUBLISH
BEGIN:VEVENT
DTSTAMP:20260310T141049
DTSTART:20260417T000000
DTEND:20260419T235900
SUMMARY:Coachella Valley Music and Arts Festival Weekend 2
DESCRIPTION:For More information:&nbsp;<a href="https://www.coachella.com/ " target="_blank" rel="noopener">https://www.coachella.com/&nbsp;</a>
X-ALT-DESC;FMTTYPE=text/html:For More information:&nbsp;<a href="https://www.coachella.com/ " target="_blank" rel="noopener">https://www.coachella.com/&nbsp;</a>
LOCATION:Empire Polo Grounds\, 81-800 Avenue 51 Indio\, California 92201
CLASS:PUBLIC
END:VEVENT
END:VCALENDAR
