BEGIN:VCALENDAR
VERSION:2.0
PRODID:Indio, CA Calendar Creator
METHOD:PUBLISH
BEGIN:VEVENT
DTSTAMP:20260330T130054
DTSTART:20260411T150000
DTEND:20260411T210000
SUMMARY:Echo Lounge
DESCRIPTION:Echo Lounge at Center Stage is back and better than ever! Festivalgoers and community members can enjoy free Festival Survival Kits (featuring exclusive brands you won’t want to miss), giveaways, photo ops, a live DJ, and a livestream of the Coachella Valley Music &amp; Arts Festival. Don’t miss the festival fun, just with a more relaxed vibe!<br><br>📅Saturday, April 11, 2026<br>📍Center Stage – 82881 Miles Avenue<br>FREE &amp; ALL AGES l 3 P.M. - 9 P.M.
X-ALT-DESC;FMTTYPE=text/html:Echo Lounge at Center Stage is back and better than ever! Festivalgoers and community members can enjoy free Festival Survival Kits (featuring exclusive brands you won’t want to miss), giveaways, photo ops, a live DJ, and a livestream of the Coachella Valley Music &amp; Arts Festival. Don’t miss the festival fun, just with a more relaxed vibe!<br><br>📅Saturday, April 11, 2026<br>📍Center Stage – 82881 Miles Avenue<br>FREE &amp; ALL AGES l 3 P.M. - 9 P.M.
LOCATION:Center Stage\, 82881 Miles Ave\, Indio\, CA 92201 Indio\, California 92201
CLASS:PUBLIC
END:VEVENT
END:VCALENDAR
