BEGIN:VCALENDAR
VERSION:2.0
PRODID:Indio, CA Calendar Creator
METHOD:PUBLISH
BEGIN:VEVENT
DTSTAMP:20260406T121249
DTSTART:20260513T180000
DTEND:20260513T235900
SUMMARY:Planning Commission
DESCRIPTION:The Planning Commission makes recommendations to the City Council regarding development and maintaining the general plan, as well as developing specific plans when necessary and periodically reviewing the capital improvement program of the city.<br><br><strong>Meets:</strong><br>2nd &amp; 4th Wednesday of the month at 6:00 p.m.<br><br><strong>Location:</strong><br>City Council Chamber, 3rd floor, 100 Civic Center Drive, Indio CA 92201
X-ALT-DESC;FMTTYPE=text/html:The Planning Commission makes recommendations to the City Council regarding development and maintaining the general plan, as well as developing specific plans when necessary and periodically reviewing the capital improvement program of the city.<br><br><strong>Meets:</strong><br>2nd &amp; 4th Wednesday of the month at 6:00 p.m.<br><br><strong>Location:</strong><br>City Council Chamber, 3rd floor, 100 Civic Center Drive, Indio CA 92201
LOCATION:City Hall Council Chambers\, 100 Civic Center Drive Indio\, California 92201
CLASS:PUBLIC
END:VEVENT
END:VCALENDAR
