BEGIN:VCALENDAR
VERSION:2.0
PRODID:Indio, CA Calendar Creator
METHOD:PUBLISH
BEGIN:VEVENT
DTSTAMP:20260407T125123
DTSTART:20260422T090000
DTEND:20260422T103000
SUMMARY:City of Indio Arbor Day
DESCRIPTION:<p>&nbsp;</p><p>Celebrate Arbor Day with us! Help us plant the future, one tree at a time 🌴<br><br>📅 Wednesday, April 22, 2026<br>🕘 9 AM – 10:30 AM<br>📍 Cahuilla Park, 83787 Hopi Avenue</p>
X-ALT-DESC;FMTTYPE=text/html:<p>&nbsp;</p><p>Celebrate Arbor Day with us! Help us plant the future, one tree at a time 🌴<br><br>📅 Wednesday, April 22, 2026<br>🕘 9 AM – 10:30 AM<br>📍 Cahuilla Park, 83787 Hopi Avenue</p>
LOCATION:Cahuilla Park\, 83787 Hopi Avenue Indio\, California 92203
CLASS:PUBLIC
END:VEVENT
END:VCALENDAR
