BEGIN:VCALENDAR
VERSION:2.0
PRODID:Indio, CA Calendar Creator
METHOD:PUBLISH
BEGIN:VEVENT
DTSTAMP:20260408T094035
DTSTART:20260415T083000
DTEND:20260415T120000
SUMMARY:3rd Annual Coachella Valley Local Government Vendor Fair
DESCRIPTION:<p>&nbsp;</p><p>Calling all business owners! Don’t miss the 3rd Annual Coachella Valley Local Government Vendor Fair on April 15th. Network with local agencies, discover new opportunities, and learn how to do business with municipalities across the Coachella Valley.<br><br>📅Wednesday, April 15 | 8:30 a.m. - 12 p.m.<br>📍Palm Springs Convention Center, 277 N. Avenida Caballeros, Mesquite D-H and Oasis Ballroom 1 and 2<br><br>For more information and to register, visit: https://www.eventbrite.com/e/coachella-valley-local-government-vendor-fair-tickets-1980012568894</p>
X-ALT-DESC;FMTTYPE=text/html:<p>&nbsp;</p><p>Calling all business owners! Don’t miss the 3rd Annual Coachella Valley Local Government Vendor Fair on April 15th. Network with local agencies, discover new opportunities, and learn how to do business with municipalities across the Coachella Valley.<br><br>📅Wednesday, April 15 | 8:30 a.m. - 12 p.m.<br>📍Palm Springs Convention Center, 277 N. Avenida Caballeros, Mesquite D-H and Oasis Ballroom 1 and 2<br><br>For more information and to register, visit: https://www.eventbrite.com/e/coachella-valley-local-government-vendor-fair-tickets-1980012568894</p>
LOCATION:Palm Springs Convention Center\, 277 N. Avenida Caballeros Palm Springs\, California 
CLASS:PUBLIC
END:VEVENT
END:VCALENDAR
